BEGIN:VCALENDAR
VERSION:2.0
PRODID:-//Assyrian GOP - ECPv6.15.11//NONSGML v1.0//EN
CALSCALE:GREGORIAN
METHOD:PUBLISH
X-ORIGINAL-URL:https://assyrian.gop
X-WR-CALDESC:Events for Assyrian GOP
REFRESH-INTERVAL;VALUE=DURATION:PT1H
X-Robots-Tag:noindex
X-PUBLISHED-TTL:PT1H
BEGIN:VTIMEZONE
TZID:UTC
BEGIN:STANDARD
TZOFFSETFROM:+0000
TZOFFSETTO:+0000
TZNAME:UTC
DTSTART:20230101T000000
END:STANDARD
END:VTIMEZONE
BEGIN:VEVENT
DTSTART;TZID=UTC:20240518T110000
DTEND;TZID=UTC:20240518T180000
DTSTAMP:20260422T160900
CREATED:20240404T180927Z
LAST-MODIFIED:20240417T182902Z
UID:1393-1716030000-1716055200@assyrian.gop
SUMMARY:Skokie Festival of Cultures
DESCRIPTION:Assyrian GOP will be at the Skokie Festival of Cultures on Saturday\, May 18\, and Sunday\, May 19\, 2024\, at Oakton Park\, 4701 Oakton Street in Skokie\, Illinois.\nVisit the Assyrian GOP tent at the Skokie Festival of Cultures on both days\, Saturday and Sunday from 11 AM to 6 PM.\nSome local GOP candidates will be on site including information about them and other GOP candidates.\nAnd\, learn more about Assyrian GOP….
URL:https://assyrian.gop/event/skokie-festival-of-cultures/
ATTACH;FMTTYPE=image/jpeg:https://assyrian.gop/wp-content/uploads/2024/04/Assyrian-GOP-Skokie-Fest.jpg
ORGANIZER;CN="Assyrian GOP":MAILTO:info@Assyrian.gop
END:VEVENT
END:VCALENDAR