BEGIN:VCALENDAR
VERSION:2.0
PRODID:-//Assyrian GOP - ECPv6.15.11//NONSGML v1.0//EN
CALSCALE:GREGORIAN
METHOD:PUBLISH
X-WR-CALNAME:Assyrian GOP
X-ORIGINAL-URL:https://assyrian.gop
X-WR-CALDESC:Events for Assyrian GOP
REFRESH-INTERVAL;VALUE=DURATION:PT1H
X-Robots-Tag:noindex
X-PUBLISHED-TTL:PT1H
BEGIN:VTIMEZONE
TZID:UTC
BEGIN:STANDARD
TZOFFSETFROM:+0000
TZOFFSETTO:+0000
TZNAME:UTC
DTSTART:20250101T000000
END:STANDARD
END:VTIMEZONE
BEGIN:VEVENT
DTSTART;TZID=UTC:20260912T140000
DTEND;TZID=UTC:20260912T170000
DTSTAMP:20260420T091744
CREATED:20260115T185647Z
LAST-MODIFIED:20260115T185647Z
UID:4089-1789221600-1789232400@assyrian.gop
SUMMARY:Assyrian GOP at German Day Parade
DESCRIPTION:Assyrian GOP among local Republican Candidates will be on the Von Steuben “German Day” Parade on Saturday\, September 12th\, in Chicago. This parade will kick off at 2 PM on Lincoln Avenue from Irving Park Road going north to Sunnyside Ave.
URL:https://assyrian.gop/event/assyrian-gop-at-german-day-parade/
ATTACH;FMTTYPE=image/jpeg:https://assyrian.gop/wp-content/uploads/2025/04/DSC_2038-scaled.jpg
ORGANIZER;CN="Assyrian GOP":MAILTO:info@Assyrian.gop
END:VEVENT
END:VCALENDAR