BEGIN:VCALENDAR
VERSION:2.0
PRODID:-//Assyrian GOP - ECPv6.15.11//NONSGML v1.0//EN
CALSCALE:GREGORIAN
METHOD:PUBLISH
X-WR-CALNAME:Assyrian GOP
X-ORIGINAL-URL:https://assyrian.gop
X-WR-CALDESC:Events for Assyrian GOP
REFRESH-INTERVAL;VALUE=DURATION:PT1H
X-Robots-Tag:noindex
X-PUBLISHED-TTL:PT1H
BEGIN:VTIMEZONE
TZID:UTC
BEGIN:STANDARD
TZOFFSETFROM:+0000
TZOFFSETTO:+0000
TZNAME:UTC
DTSTART:20220101T000000
END:STANDARD
END:VTIMEZONE
BEGIN:VEVENT
DTSTART;TZID=UTC:20240225T160000
DTEND;TZID=UTC:20240225T190000
DTSTAMP:20260421T051657
CREATED:20240216T220839Z
LAST-MODIFIED:20240220T010829Z
UID:882-1708876800-1708887600@assyrian.gop
SUMMARY:Assyrian GOP Candidate Forum
DESCRIPTION:Assyrian GOP is partnering with the Chicago Republican Party and Republican Women of Park Ridge\, hosting a Primary Candidate Forum on Sunday\, February 25th at the Urnina Banquet Hall of the Assyrian National Council of Illinois at 9131 Niles Center Road in Skokie\, Illinois. Doors will be opened to the public at 4 PM and Forum will be started at 5 PM.
URL:https://assyrian.gop/event/assyrian-gop-candidate-forum/
LOCATION:Urnina Banquet – Assyrian National Council of Illinois\, 9131 Niles Center Road\, Skokie\, IL\, 60076\, United States
ATTACH;FMTTYPE=image/jpeg:https://assyrian.gop/wp-content/uploads/2024/02/Assyrian-Candidate-Forum.jpg
ORGANIZER;CN="Assyrian GOP":MAILTO:info@Assyrian.gop
END:VEVENT
BEGIN:VEVENT
DTSTART;TZID=UTC:20231216T080000
DTEND;TZID=UTC:20231216T170000
DTSTAMP:20260421T051657
CREATED:20231112T120344Z
LAST-MODIFIED:20231112T120344Z
UID:201-1702713600-1702746000@assyrian.gop
SUMMARY:Event Title for Another Event
DESCRIPTION:Cras ex massa\, efficitur id rhoncus mollis\, mattis vel sapien. In vitae lacus est. In gravida placerat enim ac auctor. Pellentesque non augue molestie\, efficitur lacus id\, euismod turpis. In hac habitasse platea dictumst. Donec aliquam lectus quis metus condimentum\, a ullamcorper nisi fermentum. Sed consectetur lacinia lectus\, non vulputate nisl porttitor at. Nullam id egestas nisl\, id maximus lectus. Aliquam cursus\, est at suscipit aliquam\, felis est aliquam velit\, vel placerat nisl eros ut metus. Cras molestie volutpat dolor pharetra luctus. Etiam iaculis tristique metus at pulvinar. Nam interdum ultricies sollicitudin. Etiam in dolor et justo blandit facilisis. Fusce mattis porta volutpat. Praesent et suscipit nibh.
URL:https://assyrian.gop/event/event-title-for-another-event/
LOCATION:IL
END:VEVENT
END:VCALENDAR