BEGIN:VCALENDAR
VERSION:2.0
PRODID:-//Assyrian GOP - ECPv6.15.11//NONSGML v1.0//EN
CALSCALE:GREGORIAN
METHOD:PUBLISH
X-WR-CALNAME:Assyrian GOP
X-ORIGINAL-URL:https://assyrian.gop
X-WR-CALDESC:Events for Assyrian GOP
REFRESH-INTERVAL;VALUE=DURATION:PT1H
X-Robots-Tag:noindex
X-PUBLISHED-TTL:PT1H
BEGIN:VTIMEZONE
TZID:UTC
BEGIN:STANDARD
TZOFFSETFROM:+0000
TZOFFSETTO:+0000
TZNAME:UTC
DTSTART:20240101T000000
END:STANDARD
END:VTIMEZONE
BEGIN:VEVENT
DTSTART;TZID=UTC:20250705T110000
DTEND;TZID=UTC:20250705T140000
DTSTAMP:20260421T004657
CREATED:20250410T225146Z
LAST-MODIFIED:20250410T225146Z
UID:2741-1751713200-1751724000@assyrian.gop
SUMMARY:Palatine’s 4th of July parade
DESCRIPTION:Palatine’s Parade Corner of Oak and Palatine Road\, Palatine\, IL\, United States\n\n\nAssyrian GOP is partaking with Palatine’s Republican Organization with our float in Palatine’s 4th of July parade! \nThe Parade route is approximately one mile long. The parade line-up will follow N Cedar St going North and continue west on W Wood St. Step-off will be promptly at 11:00 am and proceed south on Cedar St. to Slade St.\, east on Slade St. to Brockway\, north on Brockway to Wood St. and east on Wood St. into Community Park. Parade vehicles will continue south on N Oak St and disburse West on Slade.
URL:https://assyrian.gop/event/palatines-4th-of-july-parade-2/
ATTACH;FMTTYPE=image/jpeg:https://assyrian.gop/wp-content/uploads/2025/04/DSC_1247-scaled.jpg
END:VEVENT
BEGIN:VEVENT
DTSTART;TZID=UTC:20250901T100000
DTEND;TZID=UTC:20250901T130000
DTSTAMP:20260421T004657
CREATED:20250410T222113Z
LAST-MODIFIED:20250710T205238Z
UID:2736-1756720800-1756731600@assyrian.gop
SUMMARY:Schaumburg Labor Day Parade
DESCRIPTION:The Assyrian GOP will partake with Schaumburg’s Republican Organization with our float in the Labor Day parade! \nJoin us as we celebrate the Schaumburg Septemberfest Labor Day parade on Monday\, September 1\, 2025. The one-mile and approximately two-hour parade kicks off promptly at 10 a.m. and travels northbound on Summit Drive towards the festival grounds. \nLine-up will be on Wise Rd. between Roselle Rd. and Plum Grove Rd. at 8:30 a.m. Wise Rd. will close between Roselle Rd. and Plum Grove Rd.\, and Summit Dr. will close at 8 a.m. except for parade entrants. Final assembly details will be announced in a future letter. 
URL:https://assyrian.gop/event/schaumburg-labor-day-parade/
ATTACH;FMTTYPE=image/jpeg:https://assyrian.gop/wp-content/uploads/2024/07/Assyrian-GOP-3-scaled.jpg
END:VEVENT
BEGIN:VEVENT
DTSTART;TZID=UTC:20250906T140000
DTEND;TZID=UTC:20250906T160000
DTSTAMP:20260421T004657
CREATED:20250410T223358Z
LAST-MODIFIED:20250410T223358Z
UID:2738-1757167200-1757174400@assyrian.gop
SUMMARY:Von Steuben “German Day” Parade
DESCRIPTION:Assyrian GOP among local Republican Candidates will be on the Von Steuben “German Day” Parade on Saturday\, September 6th in Chicago. This parade will kick off at 2 PM on Lincoln Avenue from Irving Park Road going north to Sunnyside Ave.
URL:https://assyrian.gop/event/von-steuben-german-day-parade-2/
ATTACH;FMTTYPE=image/jpeg:https://assyrian.gop/wp-content/uploads/2025/04/DSC_2038-scaled.jpg
END:VEVENT
BEGIN:VEVENT
DTSTART;TZID=UTC:20260222T160000
DTEND;TZID=UTC:20260222T220000
DTSTAMP:20260421T004657
CREATED:20250909T151822Z
LAST-MODIFIED:20260123T163334Z
UID:3824-1771776000-1771797600@assyrian.gop
SUMMARY:Assyrian GOP Candidate Forum - Primary Election 2026
DESCRIPTION:The Assyrian GOP is hosting a Candidate Forum on Sunday\, February 22\, 2026\, at Urnina Banquet\, located at 9131 Niles Center Road\, Skokie.\nThe event is Free to attend\, and Doors will open at 4:00 PM. Attendees are encouraged to arrive early to meet the candidates and engage with them in person.\nThe Candidate Forum will begin promptly at 5:00 PM.
URL:https://assyrian.gop/event/assyrian-gop-candidate-forum-primary-election-2026/
LOCATION:Urnia Banquet\, 9131 Niles Center Road\, Skokie\, Illinois\, 60076\, United States
ATTACH;FMTTYPE=image/jpeg:https://assyrian.gop/wp-content/uploads/2025/09/Assyrian-GOP-Candidate-Forum-scaled.jpg
ORGANIZER;CN="Assyrian GOP":MAILTO:info@Assyrian.gop
END:VEVENT
BEGIN:VEVENT
DTSTART;TZID=UTC:20260516T110000
DTEND;TZID=UTC:20260516T180000
DTSTAMP:20260421T004657
CREATED:20260323T165407Z
LAST-MODIFIED:20260323T165636Z
UID:4111-1778929200-1778954400@assyrian.gop
SUMMARY:Skokie Festival of Cultures - Day 1
DESCRIPTION:The Assyrian GOP will be at the Skokie Festival of Cultures on Saturday\, May 16\, and Sunday\, May 17\, 2026\, at Oakton Park\, 4701 Oakton Street in Skokie\, Illinois.\nYou can visit the Assyrian GOP tent/booth at the Skokie Festival of Cultures on  Saturday and Sunday from 11 AM to 6 PM.\nSome local GOP candidates will be on-site\, and information about them and other GOP candidates will be available.\nAnd\, learn more about Assyrian GOP….
URL:https://assyrian.gop/event/skokie-festival-of-cultures-5/
ATTACH;FMTTYPE=image/jpeg:https://assyrian.gop/wp-content/uploads/2025/04/Assyrian-GOP-scaled.jpg
ORGANIZER;CN="Assyrian GOP":MAILTO:info@Assyrian.gop
END:VEVENT
BEGIN:VEVENT
DTSTART;TZID=UTC:20260517T110000
DTEND;TZID=UTC:20260517T180000
DTSTAMP:20260421T004657
CREATED:20260323T165540Z
LAST-MODIFIED:20260323T165541Z
UID:4114-1779015600-1779040800@assyrian.gop
SUMMARY:Skokie Festival of Cultures - Day 2
DESCRIPTION:The Assyrian GOP will be at the Skokie Festival of Cultures on Saturday\, May 16\, and Sunday\, May 17\, 2026\, at Oakton Park\, 4701 Oakton Street in Skokie\, Illinois.\nYou can visit the Assyrian GOP tent/booth at the Skokie Festival of Cultures on  Saturday and Sunday from 11 AM to 6 PM.\nSome local GOP candidates will be on-site\, and information about them and other GOP candidates will be available.\nAnd\, learn more about Assyrian GOP….
URL:https://assyrian.gop/event/skokie-festival-of-cultures-day-2/
ATTACH;FMTTYPE=image/jpeg:https://assyrian.gop/wp-content/uploads/2025/04/Assyrian-GOP-scaled.jpg
ORGANIZER;CN="Assyrian GOP":MAILTO:info@Assyrian.gop
END:VEVENT
BEGIN:VEVENT
DTSTART;TZID=UTC:20260912T140000
DTEND;TZID=UTC:20260912T170000
DTSTAMP:20260421T004657
CREATED:20260115T185647Z
LAST-MODIFIED:20260115T185647Z
UID:4089-1789221600-1789232400@assyrian.gop
SUMMARY:Assyrian GOP at German Day Parade
DESCRIPTION:Assyrian GOP among local Republican Candidates will be on the Von Steuben “German Day” Parade on Saturday\, September 12th\, in Chicago. This parade will kick off at 2 PM on Lincoln Avenue from Irving Park Road going north to Sunnyside Ave.
URL:https://assyrian.gop/event/assyrian-gop-at-german-day-parade/
ATTACH;FMTTYPE=image/jpeg:https://assyrian.gop/wp-content/uploads/2025/04/DSC_2038-scaled.jpg
ORGANIZER;CN="Assyrian GOP":MAILTO:info@Assyrian.gop
END:VEVENT
BEGIN:VEVENT
DTSTART;TZID=UTC:20261011T160000
DTEND;TZID=UTC:20261011T200000
DTSTAMP:20260421T004657
CREATED:20250909T151347Z
LAST-MODIFIED:20250909T152438Z
UID:3821-1791734400-1791748800@assyrian.gop
SUMMARY:Assyrian GOP Candidate Forum - General Election 2026
DESCRIPTION:The Assyrian GOP proudly hosts a General Candidate Forum on Sunday\, October 11\, 2026\, at the Urnina Banquet Hall of the Assyrian National Council of Illinois\, located at 9131 Niles Center Road in Skokie\, Illinois. Doors will open to the public at 4 PM\, and the Forum will begin promptly at 5 PM. The list of the invited candidates will be posted soon.
URL:https://assyrian.gop/event/assyrian-gop-candidate-forum-general-election-2026/
LOCATION:Urnina Banquet – Assyrian National Council of Illinois\, 9131 Niles Center Road\, Skokie\, IL\, 60076\, United States
ORGANIZER;CN="Assyrian GOP":MAILTO:info@Assyrian.gop
END:VEVENT
END:VCALENDAR