BEGIN:VCALENDAR
VERSION:2.0
PRODID:-//Assyrian GOP - ECPv6.15.11//NONSGML v1.0//EN
CALSCALE:GREGORIAN
METHOD:PUBLISH
X-ORIGINAL-URL:https://assyrian.gop
X-WR-CALDESC:Events for Assyrian GOP
REFRESH-INTERVAL;VALUE=DURATION:PT1H
X-Robots-Tag:noindex
X-PUBLISHED-TTL:PT1H
BEGIN:VTIMEZONE
TZID:UTC
BEGIN:STANDARD
TZOFFSETFROM:+0000
TZOFFSETTO:+0000
TZNAME:UTC
DTSTART:20250101T000000
END:STANDARD
END:VTIMEZONE
BEGIN:VEVENT
DTSTART;TZID=UTC:20260222T160000
DTEND;TZID=UTC:20260222T220000
DTSTAMP:20260420T090650
CREATED:20250909T151822Z
LAST-MODIFIED:20260123T163334Z
UID:3824-1771776000-1771797600@assyrian.gop
SUMMARY:Assyrian GOP Candidate Forum - Primary Election 2026
DESCRIPTION:The Assyrian GOP is hosting a Candidate Forum on Sunday\, February 22\, 2026\, at Urnina Banquet\, located at 9131 Niles Center Road\, Skokie.\nThe event is Free to attend\, and Doors will open at 4:00 PM. Attendees are encouraged to arrive early to meet the candidates and engage with them in person.\nThe Candidate Forum will begin promptly at 5:00 PM.
URL:https://assyrian.gop/event/assyrian-gop-candidate-forum-primary-election-2026/
LOCATION:Urnia Banquet\, 9131 Niles Center Road\, Skokie\, Illinois\, 60076\, United States
ATTACH;FMTTYPE=image/jpeg:https://assyrian.gop/wp-content/uploads/2025/09/Assyrian-GOP-Candidate-Forum-scaled.jpg
ORGANIZER;CN="Assyrian GOP":MAILTO:info@Assyrian.gop
END:VEVENT
END:VCALENDAR